BEGIN:VCALENDAR
VERSION:2.0
PRODID:-//RINGFOTO AT - ECPv6.15.20//NONSGML v1.0//EN
CALSCALE:GREGORIAN
METHOD:PUBLISH
X-ORIGINAL-URL:https://ringfoto.at
X-WR-CALDESC:Veranstaltungen für RINGFOTO AT
REFRESH-INTERVAL;VALUE=DURATION:PT1H
X-Robots-Tag:noindex
X-PUBLISHED-TTL:PT1H
BEGIN:VTIMEZONE
TZID:Europe/Berlin
BEGIN:DAYLIGHT
TZOFFSETFROM:+0100
TZOFFSETTO:+0200
TZNAME:CEST
DTSTART:20220327T010000
END:DAYLIGHT
BEGIN:STANDARD
TZOFFSETFROM:+0200
TZOFFSETTO:+0100
TZNAME:CET
DTSTART:20221030T010000
END:STANDARD
BEGIN:DAYLIGHT
TZOFFSETFROM:+0100
TZOFFSETTO:+0200
TZNAME:CEST
DTSTART:20230326T010000
END:DAYLIGHT
BEGIN:STANDARD
TZOFFSETFROM:+0200
TZOFFSETTO:+0100
TZNAME:CET
DTSTART:20231029T010000
END:STANDARD
BEGIN:DAYLIGHT
TZOFFSETFROM:+0100
TZOFFSETTO:+0200
TZNAME:CEST
DTSTART:20240331T010000
END:DAYLIGHT
BEGIN:STANDARD
TZOFFSETFROM:+0200
TZOFFSETTO:+0100
TZNAME:CET
DTSTART:20241027T010000
END:STANDARD
BEGIN:DAYLIGHT
TZOFFSETFROM:+0100
TZOFFSETTO:+0200
TZNAME:CEST
DTSTART:20250330T010000
END:DAYLIGHT
BEGIN:STANDARD
TZOFFSETFROM:+0200
TZOFFSETTO:+0100
TZNAME:CET
DTSTART:20251026T010000
END:STANDARD
BEGIN:DAYLIGHT
TZOFFSETFROM:+0100
TZOFFSETTO:+0200
TZNAME:CEST
DTSTART:20260329T010000
END:DAYLIGHT
BEGIN:STANDARD
TZOFFSETFROM:+0200
TZOFFSETTO:+0100
TZNAME:CET
DTSTART:20261025T010000
END:STANDARD
END:VTIMEZONE
BEGIN:VEVENT
DTSTART;VALUE=DATE:20230104
DTEND;VALUE=DATE:20250401
DTSTAMP:20260422T014522
CREATED:20240112T081429Z
LAST-MODIFIED:20250123T120531Z
UID:19769-1672790400-1743465599@ringfoto.at
SUMMARY:Sony Welcome to Vlog-Aktion (bis 31.03.2025)
DESCRIPTION:Aktionszeitraum: 01.04.2023 bis zum 31.03.2025\nEinlösezeitraum: 30.04.2023 bis zum 30.06.2025
URL:https://ringfoto.at/events/sony-welcome-to-vlog-aktion-bis-31-03-2024/
END:VEVENT
BEGIN:VEVENT
DTSTART;VALUE=DATE:20240701
DTEND;VALUE=DATE:20250831
DTSTAMP:20260422T014522
CREATED:20250123T121113Z
LAST-MODIFIED:20250123T121113Z
UID:20167-1719792000-1756598399@ringfoto.at
SUMMARY:Sony Studierenden Cashback (bis 30.08.2025)
DESCRIPTION:Zur Stärkung Ihres Abverkaufs \nSony startet ab dem 01.07.2024 eine neue Cashback Aktion für ausgewählte Kameras\, Objektive und Zubehör. Studierende können hier je nach Produkt einen bestimmten Cashback Wert zurück erhalten. \nAktionszeitraum: 01.07.2024 – 30.08.2025
URL:https://ringfoto.at/events/sony-studierenden-cashback-bis-30-08-2025/
END:VEVENT
BEGIN:VEVENT
DTSTART;VALUE=DATE:20240904
DTEND;VALUE=DATE:20250201
DTSTAMP:20260422T014522
CREATED:20250123T124430Z
LAST-MODIFIED:20250123T124430Z
UID:20192-1725408000-1738367999@ringfoto.at
SUMMARY:Sony Durchverkaufsaktion (bis 31.01.2025)
DESCRIPTION:Autorisierte Händler erhalten beim Kauf ausgewählter Produkte einen Kickback in Höhe von 84 € \nAktionszeitraum: 04.09.2024 – 31.01.2025\nMeldeschluss: 14.02.2025 \nRio-Aktionsmeldung: ID 232
URL:https://ringfoto.at/events/sony-durchverkaufsaktion-bis-31-01-2025/
END:VEVENT
BEGIN:VEVENT
DTSTART;VALUE=DATE:20241001
DTEND;VALUE=DATE:20250401
DTSTAMP:20260422T014522
CREATED:20250123T122704Z
LAST-MODIFIED:20250123T122704Z
UID:20182-1727740800-1743465599@ringfoto.at
SUMMARY:FUJIFILM GFX Trade-In Aktion (bis 31.03.2025)
DESCRIPTION:Bis zu 500 € Wechselprämie für Ihren Endkunden! \nAktionszeitraum: 01.10. – 31.03.2025
URL:https://ringfoto.at/events/fujifilm-gfx-trade-in-aktion-bis-31-03-2025/
END:VEVENT
BEGIN:VEVENT
DTSTART;VALUE=DATE:20241008
DTEND;VALUE=DATE:20250119
DTSTAMP:20260422T014522
CREATED:20250123T125708Z
LAST-MODIFIED:20250123T125708Z
UID:20205-1728345600-1737244799@ringfoto.at
SUMMARY:Panasonic Lumix Herbst / Winter Aktion (bis 18.01.2025)
DESCRIPTION:Endkunden erhalten auf ausgewählte Produkte einen Sofortrabatt in Höhe von bis zu 500 €. Registrierung und Abrechnung über die RF-Zentrale. \nAktionszeitraum: 08.10.2024 – 18.01.2025\nMeldeschluss: 02.02.2025 \nRio-Aktionsmeldung: ID 246
URL:https://ringfoto.at/events/panasonic-lumix-herbst-winter-aktion-bis-18-01-2025/
END:VEVENT
BEGIN:VEVENT
DTSTART;VALUE=DATE:20241101
DTEND;VALUE=DATE:20250116
DTSTAMP:20260422T014522
CREATED:20250123T124105Z
LAST-MODIFIED:20250123T124105Z
UID:20190-1730419200-1736985599@ringfoto.at
SUMMARY:Canon Winterpromotion 2024 (bis 15.01.2025)
DESCRIPTION:Endkunden erhalten auf ausgewählte Produkte einen Cashback in Höhe von bis zu 400 €.  \nAktionszeitraum: 01.11.2024 – 15.01.2025
URL:https://ringfoto.at/events/canon-winterpromotion-2024-bis-15-01-2025/
END:VEVENT
BEGIN:VEVENT
DTSTART;VALUE=DATE:20241101
DTEND;VALUE=DATE:20250201
DTSTAMP:20260422T014522
CREATED:20240821T103459Z
LAST-MODIFIED:20250123T121325Z
UID:20110-1730419200-1738367999@ringfoto.at
SUMMARY:SONY DIREKT CASHBACK ILCE-7 III (bis 31.01.2025)
DESCRIPTION:Bis zu 446\,00 € Kickback! \nAktionszeitraum: 01.11.2024 – 31.01.2025\nMeldeschluss: 15.02.2025
URL:https://ringfoto.at/events/sony-direkt-cashback-ilce-7-iii/
END:VEVENT
BEGIN:VEVENT
DTSTART;VALUE=DATE:20241101
DTEND;VALUE=DATE:20250201
DTSTAMP:20260422T014522
CREATED:20250123T120812Z
LAST-MODIFIED:20250123T120812Z
UID:20165-1730419200-1738367999@ringfoto.at
SUMMARY:Sony WBW-Aktionen (bis 31.01.2025)
DESCRIPTION:Alpha ILCE-6700\nSie erhalten im Zeitraum 01.11.2024 – 31.01.2025 210\,00 € netto bei gemeinsamer Registrierung von Kamera und unten aufgeführten G-0bjektiven. \nAktionszeitraum: 01.11.2024 – 31.01.2025 \nAblauf:\nBitte melden Sie Ihre Verkäufe im RIO unter Aktions-ID 251.\nPro Registrierung sind max. zwei unterschiedliche Objektivmodelle möglich! \nMeldeschluss: 15.02.2025
URL:https://ringfoto.at/events/sony-wbw-aktionen-bis-31-01-2025/
END:VEVENT
BEGIN:VEVENT
DTSTART;VALUE=DATE:20241101
DTEND;VALUE=DATE:20250201
DTSTAMP:20260422T014522
CREATED:20250123T121449Z
LAST-MODIFIED:20250123T121449Z
UID:20171-1730419200-1738367999@ringfoto.at
SUMMARY:Sony DI Winter Cashback (31.01.2025)
DESCRIPTION:Zur Stärkung Ihres Abverkaufs startet die Sony Winter Cashback Aktion für ausgewählte Kameras\, Objektive und Zubehör ab 01.11.2024. Je nach Produkt können Ihre Kunden im Rahmen der Aktion bis zu 500 € in Form eines Cashbacks zurück erhalten. \nAktionszeitraum: 01.11. – 31.01.2025
URL:https://ringfoto.at/events/sony-di-winter-cashback-31-01-2025/
END:VEVENT
BEGIN:VEVENT
DTSTART;VALUE=DATE:20241101
DTEND;VALUE=DATE:20250201
DTSTAMP:20260422T014522
CREATED:20250123T121714Z
LAST-MODIFIED:20250123T121714Z
UID:20173-1730419200-1738367999@ringfoto.at
SUMMARY:SONY FX30 / FX3 Warenkorb Aktion (bis 31.01.2025)
DESCRIPTION:Zur Stärkung Ihres Abverkaufs startet Sony die SONY FX30/FX3 Warenkorb Aktion bis zum 31.01.2025. \nBis zu 300 € Abzug im Warenkorb für Ihren Endkunden. \nAktionszeitraum: 01.11.2024 – 31.01.2025\nMeldeschluss: 15.02.2025
URL:https://ringfoto.at/events/sony-fx30-fx3-warenkorb-aktion-bis-31-01-2025/
END:VEVENT
BEGIN:VEVENT
DTSTART;VALUE=DATE:20241101
DTEND;VALUE=DATE:20250201
DTSTAMP:20260422T014522
CREATED:20250123T124937Z
LAST-MODIFIED:20250123T124937Z
UID:20197-1730419200-1738367999@ringfoto.at
SUMMARY:Sony WBW Aktion Alpha 7C II (bis 31.01.2025)
DESCRIPTION:Bei gemeinsamer Registrierung von der Alpha 7C II und ausgewählten G-Objektiven erhalten Händler einen Kickback in Höhe von 252\,10 € netto. Pro Registrierung sind max. zwei unterschiedliche Objektivmodelle möglich.  \nAktionszeitraum: 01.11.2024 – 31.01.2025\nMeldeschluss: 15.02.2025 \nRio-Aktionsmeldung: ID 252
URL:https://ringfoto.at/events/sony-wbw-aktion-alpha-7c-ii-bis-31-01-2025/
END:VEVENT
BEGIN:VEVENT
DTSTART;VALUE=DATE:20241101
DTEND;VALUE=DATE:20250301
DTSTAMP:20260422T014522
CREATED:20250123T125132Z
LAST-MODIFIED:20250123T125132Z
UID:20199-1730419200-1740787199@ringfoto.at
SUMMARY:Sony WBW Aktion ILME-FX30 (bis 28.02.2025)
DESCRIPTION:Bei gemeinsamer Registrierung von der ILME-FX30 und ausgewählten G-Objektiven erhalten Händler einen Kickback in Höhe von 84 € netto. \nAktionszeitraum: 01.11.2024 – 28.02.2025\nMeldeschluss: 15.03.2025 \nRio-Aktionsmeldung: ID 254
URL:https://ringfoto.at/events/sony-wbw-aktion-ilme-fx30-bis-28-02-2025/
END:VEVENT
BEGIN:VEVENT
DTSTART;VALUE=DATE:20241114
DTEND;VALUE=DATE:20250117
DTSTAMP:20260422T014522
CREATED:20250123T122903Z
LAST-MODIFIED:20250123T122903Z
UID:20184-1731542400-1737071999@ringfoto.at
SUMMARY:FUJIFILM Cashback Aktion (16.01.2025)
DESCRIPTION:Jetzt Cashback sichern – beim Kauf teilnahmeberechtigter Kameras und Objektive! \nAktionszeitraum: 14.11.2024 – 16.01.2025\nRegistrierungszeitraum: bis 16.02.2025 \nAblauf:\nIhr Endkunde kauft eines der teilnahmeberechtigten Produkte im Aktionszeitraum und füllt das Cashback-Antragsformular unter https://fujifilm-x.com/de-de/promotions/ aus. Nach erfolgreicher Überprüfung erfolgt die Cashback-Auszahlung innerhalb von 14 Tagen.
URL:https://ringfoto.at/events/fujifilm-cashback-aktion-16-01-2025/
END:VEVENT
BEGIN:VEVENT
DTSTART;VALUE=DATE:20241119
DTEND;VALUE=DATE:20250401
DTSTAMP:20260422T014522
CREATED:20250123T125328Z
LAST-MODIFIED:20250123T125328Z
UID:20201-1731974400-1743465599@ringfoto.at
SUMMARY:Sony Warenkorb Aktion Alpha 1 (bis 31.03.2025)
DESCRIPTION:Endkunden können auf die Sony Alpha 1 Body einen Rabatt in Höhe von 500 € erhalten. Bestellung ist ausschließlich über RIO möglich.  \nAktionszeitraum: 19.11.2024 – 31.03.2025\nMeldezeitraum: bis 15.04.2025 \nRio-Aktionsmeldung: ID 265
URL:https://ringfoto.at/events/sony-warenkorb-aktion-alpha-1-bis-31-03-2025/
END:VEVENT
BEGIN:VEVENT
DTSTART;VALUE=DATE:20241125
DTEND;VALUE=DATE:20250128
DTSTAMP:20260422T014522
CREATED:20250123T122113Z
LAST-MODIFIED:20250123T122113Z
UID:20178-1732492800-1738022399@ringfoto.at
SUMMARY:Nikon Winterpromotion Sofortrabattaktion (bis 27.01.2025)
DESCRIPTION:Ihr Endkunde kann bis zum 27.01.2025 bis zu 1.000 EUR sparen! \nZeitraum: 25.10.2024 – 27.01.2025 \nProduktregistrierung: ab Aktionsbeginn\, letztmöglicher Termin für die Einreichung der Anträge ist der 11.02.2025
URL:https://ringfoto.at/events/nikon-winterpromotion-sofortrabattaktion-bis-27-01-2025/
END:VEVENT
BEGIN:VEVENT
DTSTART;VALUE=DATE:20241203
DTEND;VALUE=DATE:20250113
DTSTAMP:20260422T014522
CREATED:20250123T125854Z
LAST-MODIFIED:20250123T125854Z
UID:20207-1733184000-1736726399@ringfoto.at
SUMMARY:OM System XMAS Cashback Aktion (12.01.2025)
DESCRIPTION:Endkunden erhalten auf ausgewählte Produkte einen Rabatt in Höhe von bis zu 600 €.  \nDer Kunde muss den Kaufbeleg bis spätestens 26.01.2025 unter https://my.olympus-consumer.com/p/promotions/ einreichen. Nachdem der Beleg erfolgreich hochgeladen und geprüft wurde\, erhält der Kunde sein Cashback. Demzufolge haben Sie keinen administrativen Mehraufwand. \nAktionszeitraum: 03.12.2024 – 12.01.2025
URL:https://ringfoto.at/events/om-system-xmas-cashback-aktion-12-01-2025/
END:VEVENT
BEGIN:VEVENT
DTSTART;VALUE=DATE:20241217
DTEND;VALUE=DATE:20250301
DTSTAMP:20260422T014522
CREATED:20250123T130027Z
LAST-MODIFIED:20250123T130027Z
UID:20210-1734393600-1740787199@ringfoto.at
SUMMARY:OM System Sofortbundle Aktion
DESCRIPTION:Händler erhalten bei gemeinsamer Registrierung von E-M10 14-42 und 40-150 R einen Kickback in Höhe von 50 €.  \nAktionszeitraum: 17.12.2024 – 28.02.2025\nMeldeschluss: 14.03.2025 \nRio-Aktionsmeldung: ID 290
URL:https://ringfoto.at/events/om-system-sofortbundle-aktion/
END:VEVENT
END:VCALENDAR