BEGIN:VCALENDAR
VERSION:2.0
PRODID:-//RINGFOTO AT - ECPv6.15.20//NONSGML v1.0//EN
CALSCALE:GREGORIAN
METHOD:PUBLISH
X-ORIGINAL-URL:https://ringfoto.at
X-WR-CALDESC:Veranstaltungen für RINGFOTO AT
REFRESH-INTERVAL;VALUE=DURATION:PT1H
X-Robots-Tag:noindex
X-PUBLISHED-TTL:PT1H
BEGIN:VTIMEZONE
TZID:Europe/Berlin
BEGIN:DAYLIGHT
TZOFFSETFROM:+0100
TZOFFSETTO:+0200
TZNAME:CEST
DTSTART:20220327T010000
END:DAYLIGHT
BEGIN:STANDARD
TZOFFSETFROM:+0200
TZOFFSETTO:+0100
TZNAME:CET
DTSTART:20221030T010000
END:STANDARD
BEGIN:DAYLIGHT
TZOFFSETFROM:+0100
TZOFFSETTO:+0200
TZNAME:CEST
DTSTART:20230326T010000
END:DAYLIGHT
BEGIN:STANDARD
TZOFFSETFROM:+0200
TZOFFSETTO:+0100
TZNAME:CET
DTSTART:20231029T010000
END:STANDARD
BEGIN:DAYLIGHT
TZOFFSETFROM:+0100
TZOFFSETTO:+0200
TZNAME:CEST
DTSTART:20240331T010000
END:DAYLIGHT
BEGIN:STANDARD
TZOFFSETFROM:+0200
TZOFFSETTO:+0100
TZNAME:CET
DTSTART:20241027T010000
END:STANDARD
BEGIN:DAYLIGHT
TZOFFSETFROM:+0100
TZOFFSETTO:+0200
TZNAME:CEST
DTSTART:20250330T010000
END:DAYLIGHT
BEGIN:STANDARD
TZOFFSETFROM:+0200
TZOFFSETTO:+0100
TZNAME:CET
DTSTART:20251026T010000
END:STANDARD
BEGIN:DAYLIGHT
TZOFFSETFROM:+0100
TZOFFSETTO:+0200
TZNAME:CEST
DTSTART:20260329T010000
END:DAYLIGHT
BEGIN:STANDARD
TZOFFSETFROM:+0200
TZOFFSETTO:+0100
TZNAME:CET
DTSTART:20261025T010000
END:STANDARD
END:VTIMEZONE
BEGIN:VEVENT
DTSTART;VALUE=DATE:20230104
DTEND;VALUE=DATE:20250401
DTSTAMP:20260421T235604
CREATED:20240112T081429Z
LAST-MODIFIED:20250123T120531Z
UID:19769-1672790400-1743465599@ringfoto.at
SUMMARY:Sony Welcome to Vlog-Aktion (bis 31.03.2025)
DESCRIPTION:Aktionszeitraum: 01.04.2023 bis zum 31.03.2025\nEinlösezeitraum: 30.04.2023 bis zum 30.06.2025
URL:https://ringfoto.at/events/sony-welcome-to-vlog-aktion-bis-31-03-2024/
END:VEVENT
BEGIN:VEVENT
DTSTART;VALUE=DATE:20240701
DTEND;VALUE=DATE:20250831
DTSTAMP:20260421T235604
CREATED:20250123T121113Z
LAST-MODIFIED:20250123T121113Z
UID:20167-1719792000-1756598399@ringfoto.at
SUMMARY:Sony Studierenden Cashback (bis 30.08.2025)
DESCRIPTION:Zur Stärkung Ihres Abverkaufs \nSony startet ab dem 01.07.2024 eine neue Cashback Aktion für ausgewählte Kameras\, Objektive und Zubehör. Studierende können hier je nach Produkt einen bestimmten Cashback Wert zurück erhalten. \nAktionszeitraum: 01.07.2024 – 30.08.2025
URL:https://ringfoto.at/events/sony-studierenden-cashback-bis-30-08-2025/
END:VEVENT
BEGIN:VEVENT
DTSTART;VALUE=DATE:20241001
DTEND;VALUE=DATE:20250401
DTSTAMP:20260421T235604
CREATED:20250123T122704Z
LAST-MODIFIED:20250123T122704Z
UID:20182-1727740800-1743465599@ringfoto.at
SUMMARY:FUJIFILM GFX Trade-In Aktion (bis 31.03.2025)
DESCRIPTION:Bis zu 500 € Wechselprämie für Ihren Endkunden! \nAktionszeitraum: 01.10. – 31.03.2025
URL:https://ringfoto.at/events/fujifilm-gfx-trade-in-aktion-bis-31-03-2025/
END:VEVENT
BEGIN:VEVENT
DTSTART;VALUE=DATE:20241101
DTEND;VALUE=DATE:20250301
DTSTAMP:20260421T235604
CREATED:20250123T125132Z
LAST-MODIFIED:20250123T125132Z
UID:20199-1730419200-1740787199@ringfoto.at
SUMMARY:Sony WBW Aktion ILME-FX30 (bis 28.02.2025)
DESCRIPTION:Bei gemeinsamer Registrierung von der ILME-FX30 und ausgewählten G-Objektiven erhalten Händler einen Kickback in Höhe von 84 € netto. \nAktionszeitraum: 01.11.2024 – 28.02.2025\nMeldeschluss: 15.03.2025 \nRio-Aktionsmeldung: ID 254
URL:https://ringfoto.at/events/sony-wbw-aktion-ilme-fx30-bis-28-02-2025/
END:VEVENT
BEGIN:VEVENT
DTSTART;VALUE=DATE:20241119
DTEND;VALUE=DATE:20250401
DTSTAMP:20260421T235604
CREATED:20250123T125328Z
LAST-MODIFIED:20250123T125328Z
UID:20201-1731974400-1743465599@ringfoto.at
SUMMARY:Sony Warenkorb Aktion Alpha 1 (bis 31.03.2025)
DESCRIPTION:Endkunden können auf die Sony Alpha 1 Body einen Rabatt in Höhe von 500 € erhalten. Bestellung ist ausschließlich über RIO möglich.  \nAktionszeitraum: 19.11.2024 – 31.03.2025\nMeldezeitraum: bis 15.04.2025 \nRio-Aktionsmeldung: ID 265
URL:https://ringfoto.at/events/sony-warenkorb-aktion-alpha-1-bis-31-03-2025/
END:VEVENT
BEGIN:VEVENT
DTSTART;VALUE=DATE:20241217
DTEND;VALUE=DATE:20250301
DTSTAMP:20260421T235604
CREATED:20250123T130027Z
LAST-MODIFIED:20250123T130027Z
UID:20210-1734393600-1740787199@ringfoto.at
SUMMARY:OM System Sofortbundle Aktion
DESCRIPTION:Händler erhalten bei gemeinsamer Registrierung von E-M10 14-42 und 40-150 R einen Kickback in Höhe von 50 €.  \nAktionszeitraum: 17.12.2024 – 28.02.2025\nMeldeschluss: 14.03.2025 \nRio-Aktionsmeldung: ID 290
URL:https://ringfoto.at/events/om-system-sofortbundle-aktion/
END:VEVENT
BEGIN:VEVENT
DTSTART;VALUE=DATE:20250113
DTEND;VALUE=DATE:20250210
DTSTAMP:20260421T235604
CREATED:20250123T122005Z
LAST-MODIFIED:20250123T122005Z
UID:20176-1736726400-1739145599@ringfoto.at
SUMMARY:Pentax Ricoh Promotion (bis 09.02.2025)
DESCRIPTION:Aktionszeitraum: 13.01.2025 – 09.02.2025\nMeldeschluss: 24.02.2025 \nRegistrierung über die RIO-Aktions-ID 300
URL:https://ringfoto.at/events/pentax-ricoh-promotion-bis-09-02-2025/
END:VEVENT
BEGIN:VEVENT
DTSTART;VALUE=DATE:20250116
DTEND;VALUE=DATE:20250401
DTSTAMP:20260421T235604
CREATED:20250123T122607Z
LAST-MODIFIED:20250123T122607Z
UID:20180-1736985600-1743465599@ringfoto.at
SUMMARY:GoPro Sell Out Aktionen in Q1
DESCRIPTION:Hier finden Sie alle Informationen zur GoPro SOA-Aktion für 2025 in Q1! \nBitte die unterschiedlichen Promos mit den jeweiligen Zeiträumen und Kickbacks beachten!\nAbrechnung via Aktionsmeldungs-Tool mit der jeweiligen RIO-Aktions-ID. \nGoPro JAN SELL OUT AKTION PROMO NR. 1\nVerkaufszeitraum: 27.01.2025 bis 02.02.2025\nMeldeschluss: 17.02.2025\nRIO-Aktions-ID: 293 \nGoPro FEB SELL OUT AKTION PROMO NR. 2\nVerkaufszeitraum: 03.02.2025 bis 23.02.2025\nMeldeschluss: 10.03.2025\nRIO-Aktions-ID: 294 \nGoPro MRZ Sell Out Aktion Promo Nr. 3\nVerkaufszeitraum: 03.03.2025 bis 16.03.2025\nMeldeschluss: 31.03.2025\nRIO-Aktions-ID: 295
URL:https://ringfoto.at/events/gopro-sell-out-aktionen-in-q1/
END:VEVENT
BEGIN:VEVENT
DTSTART;VALUE=DATE:20250127
DTEND;VALUE=DATE:20250401
DTSTAMP:20260421T235604
CREATED:20250127T085126Z
LAST-MODIFIED:20250127T085126Z
UID:20212-1737936000-1743465599@ringfoto.at
SUMMARY:Panasonic LUMIX S Frühjahrs-Aktion (bis 31.03.2025)
DESCRIPTION:Zum Start in das neue Jahr 2025 möchte Panasonic Sie mit der untengenannten Aktion beim Abverkauf unserer Lumix S Kameras unterstützen! \nAktionszeitraum: 27.01. – 31.03.2025\nRegistrierungszeitraum: 15.04.2025 (Zwischenabrechnung Ende Februar) \nRegistrierung und Abrechnung über die RIO-Aktionsmeldung 303\nDie Aktion ist gültig in D/AT/NL und Belgien
URL:https://ringfoto.at/events/panasonic-lumix-s-fruehjahrs-aktion-bis-31-03-2025/
END:VEVENT
BEGIN:VEVENT
DTSTART;VALUE=DATE:20250201
DTEND;VALUE=DATE:20250301
DTSTAMP:20260421T235604
CREATED:20250128T145629Z
LAST-MODIFIED:20250128T145629Z
UID:20214-1738368000-1740787199@ringfoto.at
SUMMARY:OM-SYSTEM TG-7 DURCHVERKAUFSAKTION
DESCRIPTION:WICHTIG: Kommunikation Ihrem Endkunden gegenüber nicht vor dem 01.02.2025! \nAktionszeitraum: 01.02. – 28.02.2025\nMeldeschluss: 15.03.2025 \nAblauf:\nBitte melden Sie Ihre Verkäufe im RIO unter: Aktions-ID 307
URL:https://ringfoto.at/events/om-system-tg-7-durchverkaufsaktion/
END:VEVENT
BEGIN:VEVENT
DTSTART;VALUE=DATE:20250201
DTEND;VALUE=DATE:20250301
DTSTAMP:20260421T235604
CREATED:20250128T150012Z
LAST-MODIFIED:20250203T071506Z
UID:20222-1738368000-1740787199@ringfoto.at
SUMMARY:SONY WILDLIFE OBJEKTIVE WARENKORB-AKTION
DESCRIPTION:Bis zu 100 EUR Abzug im Warenkorb für Ihren Endkunden! \nAktionszeitraum: 01.02. – 28.02.2025\nMeldeschluss: 15.03.2025 \nBitte melden Sie Ihre Verkäufe im RIO – Aktionsmeldung ID 306!
URL:https://ringfoto.at/events/home-sony-wildlife-objektive-warenkorb-aktion/
END:VEVENT
BEGIN:VEVENT
DTSTART;VALUE=DATE:20250201
DTEND;VALUE=DATE:20250324
DTSTAMP:20260421T235604
CREATED:20250128T145803Z
LAST-MODIFIED:20250203T071453Z
UID:20220-1738368000-1742774399@ringfoto.at
SUMMARY:CANON WILDLIFE-DEALS RF OBJEKTIVE & FERNGLÄSER
DESCRIPTION:Bis zu 250 € Abzug im Warenkorb für Ihren Endkunden!\nGültig nur in DE / AT! \nAktionszeitraum: 01.02. – 23.02.2025\nMeldeschluss: 10.03.2025 \nAblauf:\nBitte melden Sie Ihre Verkäufe im RIO unter: Aktions-ID 304
URL:https://ringfoto.at/events/canon-wildlife-deals-rf-objektive-fernglaeser/
END:VEVENT
BEGIN:VEVENT
DTSTART;VALUE=DATE:20250201
DTEND;VALUE=DATE:20250401
DTSTAMP:20260421T235604
CREATED:20250128T150240Z
LAST-MODIFIED:20250203T071403Z
UID:20226-1738368000-1743465599@ringfoto.at
SUMMARY:FUJIFILM X-T50 WBW-Sofortrabatt-Aktion
DESCRIPTION:Ihr Endkunde erhält bis zu 200\,- EUR Sofortrabatt beim Kauf teilnahmeberechtigter Kamera mit bis zu drei teilnahmeberechtigten Objektiven!  \nAktionszeitraum: 01.02. – 31.03.2025
URL:https://ringfoto.at/events/fujifilm-x-t50-wbw-sofortrabatt-aktion/
END:VEVENT
BEGIN:VEVENT
DTSTART;VALUE=DATE:20250201
DTEND;VALUE=DATE:20250401
DTSTAMP:20260421T235604
CREATED:20250128T150313Z
LAST-MODIFIED:20250203T071350Z
UID:20228-1738368000-1743465599@ringfoto.at
SUMMARY:FUJIFILM GF Objektive Sofortrabatt-Aktion
DESCRIPTION:Ihr Endkunde erhält 500\,- EUR Sofortrabatt beim Kauf teilnahmeberechtigter GF Objektive!  \nAktionszeitraum: 01.02. – 31.03.2025
URL:https://ringfoto.at/events/fujifilm-gf-objektive-sofortrabatt-aktion/
END:VEVENT
BEGIN:VEVENT
DTSTART;VALUE=DATE:20250201
DTEND;VALUE=DATE:20250501
DTSTAMP:20260421T235604
CREATED:20250128T145702Z
LAST-MODIFIED:20250428T092058Z
UID:20216-1738368000-1746057599@ringfoto.at
SUMMARY:CANON EOS R6II BODY & EOS R8 BODY SOFTBUNDLE-AKTION
DESCRIPTION:Kickback bei gemeinsamen Verkauf & Registrierung in der RIO-Aktionsmeldung\nGültig nur in DE / AT! \nAktionszeitraum: 01.02. – 30.04.2025\nMeldeschluss: 07.05.2025 \nAblauf:\nBitte melden Sie Ihre Verkäufe im RIO unter: Aktions-ID 07.05.2025
URL:https://ringfoto.at/events/canon-eos-r6ii-body-eos-r8-body-softbundle-aktion/
END:VEVENT
BEGIN:VEVENT
DTSTART;VALUE=DATE:20250201
DTEND;VALUE=DATE:20250501
DTSTAMP:20260421T235604
CREATED:20250128T145729Z
LAST-MODIFIED:20250321T071838Z
UID:20218-1738368000-1746057599@ringfoto.at
SUMMARY:CANON FRÜHJAHRS-AKTION EOS R6II\, R8 & R7
DESCRIPTION:200 € Abzug im Warenkorb für Ihren Endkunden!\nGültig nur in DE / AT! \nAktionszeitraum: 01.02. – 30.04.2025 (verlängert)\nMeldeschluss: 07.05.2025 \nAblauf:\nBitte melden Sie Ihre Verkäufe im RIO unter: Aktions-ID 299
URL:https://ringfoto.at/events/canon-fruehjahrs-aktion-eos-r6ii-r8-r7/
END:VEVENT
END:VCALENDAR