BEGIN:VCALENDAR
VERSION:2.0
PRODID:-//RINGFOTO AT - ECPv6.15.20//NONSGML v1.0//EN
CALSCALE:GREGORIAN
METHOD:PUBLISH
X-WR-CALNAME:RINGFOTO AT
X-ORIGINAL-URL:https://ringfoto.at
X-WR-CALDESC:Veranstaltungen für RINGFOTO AT
REFRESH-INTERVAL;VALUE=DURATION:PT1H
X-Robots-Tag:noindex
X-PUBLISHED-TTL:PT1H
BEGIN:VTIMEZONE
TZID:Europe/Berlin
BEGIN:DAYLIGHT
TZOFFSETFROM:+0100
TZOFFSETTO:+0200
TZNAME:CEST
DTSTART:20230326T010000
END:DAYLIGHT
BEGIN:STANDARD
TZOFFSETFROM:+0200
TZOFFSETTO:+0100
TZNAME:CET
DTSTART:20231029T010000
END:STANDARD
BEGIN:DAYLIGHT
TZOFFSETFROM:+0100
TZOFFSETTO:+0200
TZNAME:CEST
DTSTART:20240331T010000
END:DAYLIGHT
BEGIN:STANDARD
TZOFFSETFROM:+0200
TZOFFSETTO:+0100
TZNAME:CET
DTSTART:20241027T010000
END:STANDARD
BEGIN:DAYLIGHT
TZOFFSETFROM:+0100
TZOFFSETTO:+0200
TZNAME:CEST
DTSTART:20250330T010000
END:DAYLIGHT
BEGIN:STANDARD
TZOFFSETFROM:+0200
TZOFFSETTO:+0100
TZNAME:CET
DTSTART:20251026T010000
END:STANDARD
BEGIN:DAYLIGHT
TZOFFSETFROM:+0100
TZOFFSETTO:+0200
TZNAME:CEST
DTSTART:20260329T010000
END:DAYLIGHT
BEGIN:STANDARD
TZOFFSETFROM:+0200
TZOFFSETTO:+0100
TZNAME:CET
DTSTART:20261025T010000
END:STANDARD
BEGIN:DAYLIGHT
TZOFFSETFROM:+0100
TZOFFSETTO:+0200
TZNAME:CEST
DTSTART:20270328T010000
END:DAYLIGHT
BEGIN:STANDARD
TZOFFSETFROM:+0200
TZOFFSETTO:+0100
TZNAME:CET
DTSTART:20271031T010000
END:STANDARD
END:VTIMEZONE
BEGIN:VEVENT
DTSTART;VALUE=DATE:20240701
DTEND;VALUE=DATE:20250831
DTSTAMP:20260421T170931
CREATED:20250123T121113Z
LAST-MODIFIED:20250123T121113Z
UID:20167-1719792000-1756598399@ringfoto.at
SUMMARY:Sony Studierenden Cashback (bis 30.08.2025)
DESCRIPTION:Zur Stärkung Ihres Abverkaufs \nSony startet ab dem 01.07.2024 eine neue Cashback Aktion für ausgewählte Kameras\, Objektive und Zubehör. Studierende können hier je nach Produkt einen bestimmten Cashback Wert zurück erhalten. \nAktionszeitraum: 01.07.2024 – 30.08.2025
URL:https://ringfoto.at/events/sony-studierenden-cashback-bis-30-08-2025/
END:VEVENT
BEGIN:VEVENT
DTSTART;VALUE=DATE:20250401
DTEND;VALUE=DATE:20250701
DTSTAMP:20260421T170931
CREATED:20250326T080513Z
LAST-MODIFIED:20250326T080513Z
UID:20317-1743465600-1751327999@ringfoto.at
SUMMARY:SONY WARENKORB AKTION FX30 | FX3 | ALPHA1 | ALPHA 7RV
DESCRIPTION:WICHTIG: Kommunikation Ihrem Endkunden gegenüber nicht vor dem 01.04.2025 \nBis zu 500 EUR Abzug im Warenkorb für Ihren Endkunden! \nAktionszeitraum: 01.04. – 30.06.2025\nMeldeschluss: 07.07.2025 \nBitte melden Sie Ihre Verkäufe im RIO – Aktionsmeldung ID 331!
URL:https://ringfoto.at/events/sony-warenkorb-aktion-fx30-fx3-alpha1-alpha-7rv/
END:VEVENT
BEGIN:VEVENT
DTSTART;VALUE=DATE:20250401
DTEND;VALUE=DATE:20250801
DTSTAMP:20260421T170931
CREATED:20250326T080434Z
LAST-MODIFIED:20250326T080434Z
UID:20315-1743465600-1754006399@ringfoto.at
SUMMARY:SONY SUMMER CASHBACK 2025
DESCRIPTION:WICHTIG: Kommunikation Ihrem Endkunden gegenüber nicht vor dem 01.04.2025 \nZur Stärkung Ihres Abverkaufs startet die Sony Summer Cashback Aktion für ausgewählte Kameras\, Objektive und Zubehöre ab 01.04.2025. Je nach Produkt können Ihre Kunden im Rahmen der Aktion bis zu 400 € in Form eines Cashbacks zurück erhalten. \nAktionszeitraum: 01.04. – 31.07.2025
URL:https://ringfoto.at/events/sony-summer-cashback-2025/
END:VEVENT
BEGIN:VEVENT
DTSTART;VALUE=DATE:20250401
DTEND;VALUE=DATE:20260401
DTSTAMP:20260421T170931
CREATED:20250327T121144Z
LAST-MODIFIED:20250327T121144Z
UID:20321-1743465600-1775001599@ringfoto.at
SUMMARY:SONY TELE-KONVERTER WBW AKTION
DESCRIPTION:Sie erhalten im Zeitraum 01.04.2025 – 31.03.2026 168\,00 € netto bei gemeinsamer Registrierung von Objektiv und unten aufgeführten Tele-Konverter \nAktionszeitraum: 01.04. – 31.03.2026\nMeldeschluss: 07.04.2026 \nBitte melden Sie Ihre Verkäufe im RIO – Aktionsmeldung ID 335!
URL:https://ringfoto.at/events/sony-tele-konverter-wbw-aktion/
END:VEVENT
BEGIN:VEVENT
DTSTART;VALUE=DATE:20250401
DTEND;VALUE=DATE:20260401
DTSTAMP:20260421T170931
CREATED:20251027T085912Z
LAST-MODIFIED:20251027T085912Z
UID:20507-1743465600-1775001599@ringfoto.at
SUMMARY:SONY COI WHEN-BOUGHT-WITH
DESCRIPTION:Zur Stärkung Ihres Abverkaufs startet Sony die COI When-Bought-With Aktion ab 01.04.2025. \nJe nach Kombination können Ihre Kunden im Rahmen der Aktion 100 € sparen beim gemeinsamen Kauf einer teilnehmenden Kamera und einem ausgewählten Objektiv von Sony. \nVerkaufszeitraum: 01.04.2025 – 31.03.2026 \nAblauf:\nBitte melden Sie Ihre Verkäufe im RIO unter: Aktions-ID 333
URL:https://ringfoto.at/events/sony-coi-when-bought-with/
END:VEVENT
BEGIN:VEVENT
DTSTART;VALUE=DATE:20250415
DTEND;VALUE=DATE:20250701
DTSTAMP:20260421T170931
CREATED:20250415T080817Z
LAST-MODIFIED:20250415T080817Z
UID:20324-1744675200-1751327999@ringfoto.at
SUMMARY:CANON LENS LOVE CASHBACK
DESCRIPTION:Ihre Endkunden können bis zu 1.500\,- EUR sparen! \nUm an der Aktion teilzunehmen\, muss während des Aktionszeitraums eine der teilnahmeberechtigten Kameras\, sowie ein Aktionsobjektiv erworben werden. \nAktionszeitraum: 15.04. – 30.06.2025\nRegistrierungszeitraum: bis zum 15.07.2025
URL:https://ringfoto.at/events/canon-lens-love-cashback/
END:VEVENT
BEGIN:VEVENT
DTSTART;VALUE=DATE:20250501
DTEND;VALUE=DATE:20250701
DTSTAMP:20260421T170931
CREATED:20250429T130015Z
LAST-MODIFIED:20250429T130015Z
UID:20347-1746057600-1751327999@ringfoto.at
SUMMARY:EOS-R6II-Body-EOSR8-Body-Softbundle-Aktion
DESCRIPTION:WICHTIG: Kommunikation Ihrem Endkunden gegenüber nicht vor dem 01.05.2025! \nKickback bei gemeinsamen Verkauf & Registrierung in der RIO-Aktionsmeldung\nGültig nur in DE / AT! \nDer Softbundle Warenkorbabzug ist NICHT mit der City to Ocean (Mai Warenkorbabzug) kombinierbar. \nAktionszeitraum: 01.05. – 30.06.2025\nMeldeschluss: 14.07.2025 \nAblauf:\nBitte melden Sie Ihre Verkäufe im RIO unter: Aktions-ID 354 / 355
URL:https://ringfoto.at/events/eos-r6ii-body-eosr8-body-softbundle-aktion/
END:VEVENT
BEGIN:VEVENT
DTSTART;VALUE=DATE:20250502
DTEND;VALUE=DATE:20250722
DTSTAMP:20260421T170931
CREATED:20250512T084738Z
LAST-MODIFIED:20250512T084738Z
UID:20359-1746144000-1753142399@ringfoto.at
SUMMARY:NIKON SOMMERPROMO SOFORTRABATT-AKTION
DESCRIPTION:Ihr Endkunde kann bis zum 21.07.2025 bis zu 1.00 EUR sparen! \nZeitraum: 02.05. – 21.07.2025\nMeldeschluss: 04.08.2025 (eingehend bei Nikon) \nProduktregistrierung: ab Aktionsbeginn\, letztmöglicher Termin für die Einreichung der Anträge ist der 04.08.2025
URL:https://ringfoto.at/events/nikon-sommerpromo-sofortrabatt-aktion/
END:VEVENT
BEGIN:VEVENT
DTSTART;VALUE=DATE:20250508
DTEND;VALUE=DATE:20250708
DTSTAMP:20260421T170931
CREATED:20250512T084440Z
LAST-MODIFIED:20250512T084440Z
UID:20354-1746662400-1751932799@ringfoto.at
SUMMARY:FUJIFILM GF OBJEKTIV SOFORTRABATT AKTION
DESCRIPTION:Jetzt 500\,00 EUR Sofortrabatt sichern – beim Kauf teilnahmeberechtigter Objektive! \nAktionszeitraum: 08.05.2025 – 07.07.2025\nRegistrierungszeitraum: bis 04.08.2025
URL:https://ringfoto.at/events/fujifilm-gf-objektiv-sofortrabatt-aktion/
END:VEVENT
BEGIN:VEVENT
DTSTART;VALUE=DATE:20250508
DTEND;VALUE=DATE:20250708
DTSTAMP:20260421T170931
CREATED:20250512T084514Z
LAST-MODIFIED:20250512T084514Z
UID:20356-1746662400-1751932799@ringfoto.at
SUMMARY:FUJIFILM XF OBJEKTIV CASHBACK AKTION
DESCRIPTION:Jetzt Cashback sichern – beim Kauf teilnahmeberechtigter Kameras und Objektive!  \nAktionszeitraum: 08.05.2025 – 07.07.2025\nRegistrierungszeitraum: bis 04.08.2025 \nAblauf:\nIhr Endkunde kauft eines der teilnahmeberechtigten Produkte im Aktionszeitraum und füllt das Cashback-Antragsformular unter www.fujifi lm-x.com/de-de/promotions. aus. Nach erfolgreicher Überprüfung erfolgt die Cashback-Auszahlung innerhalb von 14 Tagen.
URL:https://ringfoto.at/events/fujifilm-xf-objektiv-cashback-aktion/
END:VEVENT
BEGIN:VEVENT
DTSTART;VALUE=DATE:20250606
DTEND;VALUE=DATE:20250626
DTSTAMP:20260421T170931
CREATED:20250528T072030Z
LAST-MODIFIED:20250528T072030Z
UID:20365-1749168000-1750895999@ringfoto.at
SUMMARY:CANON WARENKORB-AKTION "READY FOR YOUR SUMMER ADVENTURE"
DESCRIPTION:Bitte beachten Sie\, dass die Aktion erst ab dem 06.06.2025 an Ihre Endkunden kommuniziert werden darf! \nNur gültig in DE / AT!\nIhre Endkunden können bis zu 460\,- EUR sparen! \nAktionszeitraum: 06.06.2025 – 25.06.2025\nRegistrierungszeitraum: bis zum 09.07.2025 \nAblauf:\nBitte melden Sie Ihre Verkäufe im RIO unter: Aktions-ID 361
URL:https://ringfoto.at/events/canon-warenkorb-aktion-ready-for-your-summer-adventure/
END:VEVENT
BEGIN:VEVENT
DTSTART;VALUE=DATE:20250617
DTEND;VALUE=DATE:20250818
DTSTAMP:20260421T170931
CREATED:20250617T132932Z
LAST-MODIFIED:20250801T102548Z
UID:20372-1750118400-1755475199@ringfoto.at
SUMMARY:OM SYSTEM OM-5 II + GRATIS ABENTEUER-PAKET
DESCRIPTION:Kunden\, die jetzt bestellen\, erhalten eine kostenlose Garantieverlängerung auf insgesamt 5 Jahre! Zusätzlich erhalten Sie ein 8-16×40 Fernglas und einen BLS-50 Akku für erweiterte Aufnahmen ohne zusätzliche Kosten. \nAktionszeitraum: 17.06. – 17.08.2025\nRegistrierung: bis spätestens 31.08.2025
URL:https://ringfoto.at/events/om-system-om-5-ii-gratis-abenteuer-paket/
END:VEVENT
END:VCALENDAR