BEGIN:VCALENDAR
VERSION:2.0
PRODID:-//RINGFOTO AT - ECPv6.15.20//NONSGML v1.0//EN
CALSCALE:GREGORIAN
METHOD:PUBLISH
X-WR-CALNAME:RINGFOTO AT
X-ORIGINAL-URL:https://ringfoto.at
X-WR-CALDESC:Veranstaltungen für RINGFOTO AT
REFRESH-INTERVAL;VALUE=DURATION:PT1H
X-Robots-Tag:noindex
X-PUBLISHED-TTL:PT1H
BEGIN:VTIMEZONE
TZID:Europe/Berlin
BEGIN:DAYLIGHT
TZOFFSETFROM:+0100
TZOFFSETTO:+0200
TZNAME:CEST
DTSTART:20230326T010000
END:DAYLIGHT
BEGIN:STANDARD
TZOFFSETFROM:+0200
TZOFFSETTO:+0100
TZNAME:CET
DTSTART:20231029T010000
END:STANDARD
BEGIN:DAYLIGHT
TZOFFSETFROM:+0100
TZOFFSETTO:+0200
TZNAME:CEST
DTSTART:20240331T010000
END:DAYLIGHT
BEGIN:STANDARD
TZOFFSETFROM:+0200
TZOFFSETTO:+0100
TZNAME:CET
DTSTART:20241027T010000
END:STANDARD
BEGIN:DAYLIGHT
TZOFFSETFROM:+0100
TZOFFSETTO:+0200
TZNAME:CEST
DTSTART:20250330T010000
END:DAYLIGHT
BEGIN:STANDARD
TZOFFSETFROM:+0200
TZOFFSETTO:+0100
TZNAME:CET
DTSTART:20251026T010000
END:STANDARD
BEGIN:DAYLIGHT
TZOFFSETFROM:+0100
TZOFFSETTO:+0200
TZNAME:CEST
DTSTART:20260329T010000
END:DAYLIGHT
BEGIN:STANDARD
TZOFFSETFROM:+0200
TZOFFSETTO:+0100
TZNAME:CET
DTSTART:20261025T010000
END:STANDARD
BEGIN:DAYLIGHT
TZOFFSETFROM:+0100
TZOFFSETTO:+0200
TZNAME:CEST
DTSTART:20270328T010000
END:DAYLIGHT
BEGIN:STANDARD
TZOFFSETFROM:+0200
TZOFFSETTO:+0100
TZNAME:CET
DTSTART:20271031T010000
END:STANDARD
END:VTIMEZONE
BEGIN:VEVENT
DTSTART;VALUE=DATE:20240701
DTEND;VALUE=DATE:20250831
DTSTAMP:20260421T133637
CREATED:20250123T121113Z
LAST-MODIFIED:20250123T121113Z
UID:20167-1719792000-1756598399@ringfoto.at
SUMMARY:Sony Studierenden Cashback (bis 30.08.2025)
DESCRIPTION:Zur Stärkung Ihres Abverkaufs \nSony startet ab dem 01.07.2024 eine neue Cashback Aktion für ausgewählte Kameras\, Objektive und Zubehör. Studierende können hier je nach Produkt einen bestimmten Cashback Wert zurück erhalten. \nAktionszeitraum: 01.07.2024 – 30.08.2025
URL:https://ringfoto.at/events/sony-studierenden-cashback-bis-30-08-2025/
END:VEVENT
BEGIN:VEVENT
DTSTART;VALUE=DATE:20250401
DTEND;VALUE=DATE:20260401
DTSTAMP:20260421T133637
CREATED:20250327T121144Z
LAST-MODIFIED:20250327T121144Z
UID:20321-1743465600-1775001599@ringfoto.at
SUMMARY:SONY TELE-KONVERTER WBW AKTION
DESCRIPTION:Sie erhalten im Zeitraum 01.04.2025 – 31.03.2026 168\,00 € netto bei gemeinsamer Registrierung von Objektiv und unten aufgeführten Tele-Konverter \nAktionszeitraum: 01.04. – 31.03.2026\nMeldeschluss: 07.04.2026 \nBitte melden Sie Ihre Verkäufe im RIO – Aktionsmeldung ID 335!
URL:https://ringfoto.at/events/sony-tele-konverter-wbw-aktion/
END:VEVENT
BEGIN:VEVENT
DTSTART;VALUE=DATE:20250401
DTEND;VALUE=DATE:20260401
DTSTAMP:20260421T133637
CREATED:20251027T085912Z
LAST-MODIFIED:20251027T085912Z
UID:20507-1743465600-1775001599@ringfoto.at
SUMMARY:SONY COI WHEN-BOUGHT-WITH
DESCRIPTION:Zur Stärkung Ihres Abverkaufs startet Sony die COI When-Bought-With Aktion ab 01.04.2025. \nJe nach Kombination können Ihre Kunden im Rahmen der Aktion 100 € sparen beim gemeinsamen Kauf einer teilnehmenden Kamera und einem ausgewählten Objektiv von Sony. \nVerkaufszeitraum: 01.04.2025 – 31.03.2026 \nAblauf:\nBitte melden Sie Ihre Verkäufe im RIO unter: Aktions-ID 333
URL:https://ringfoto.at/events/sony-coi-when-bought-with/
END:VEVENT
BEGIN:VEVENT
DTSTART;VALUE=DATE:20250701
DTEND;VALUE=DATE:20250901
DTSTAMP:20260421T133637
CREATED:20250702T063210Z
LAST-MODIFIED:20250801T102613Z
UID:20392-1751328000-1756684799@ringfoto.at
SUMMARY:CANON EOS R8 BODY SOFTBUNDLE AKTION
DESCRIPTION:Kickback bei gemeinsamen Verkauf & Registrierung in der RIO-Aktionsmeldung\nGültig nur in DE / AT! \nAktionszeitraum: 01.07. – 31.08.2025\nMeldeschluss: 14.09.2025 \nAblauf:\nBitte melden Sie Ihre Verkäufe im RIO unter: Aktions-ID 387
URL:https://ringfoto.at/events/canon-eos-r8-body-softbundle-aktion/
END:VEVENT
BEGIN:VEVENT
DTSTART;VALUE=DATE:20250701
DTEND;VALUE=DATE:20251001
DTSTAMP:20260421T133637
CREATED:20250702T063405Z
LAST-MODIFIED:20250702T063405Z
UID:20396-1751328000-1759276799@ringfoto.at
SUMMARY:SONY WARENKORB AKTION ALPHA 1 | ALPHA 7RV
DESCRIPTION:Bis zu 500 EUR Abzug im Warenkorb für Ihren Endkunden! \nAktionszeitraum: 01.07. – 30.09.2025\nMeldeschluss: 14.10.2025 \nBitte melden Sie Ihre Verkäufe im RIO – Aktionsmeldung ID 393!
URL:https://ringfoto.at/events/sony-warenkorb-aktion-alpha-1-alpha-7rv/
END:VEVENT
BEGIN:VEVENT
DTSTART;VALUE=DATE:20250701
DTEND;VALUE=DATE:20251103
DTSTAMP:20260421T133637
CREATED:20251027T085217Z
LAST-MODIFIED:20251027T085217Z
UID:20502-1751328000-1762127999@ringfoto.at
SUMMARY:CANON EOS R8 BODY SOFTBUNDLE AKTION
DESCRIPTION:Kickback bei gemeinsamen Verkauf & Registrierung in der RIO-Aktionsmeldung\nGültig nur in DE / AT! \nAktionszeitraum: 01.07. – 02.11.2025\nMeldeschluss: 16.11.2025 \nAblauf:\nBitte melden Sie Ihre Verkäufe im RIO unter: Aktions-ID 387
URL:https://ringfoto.at/events/canon-eos-r8-body-softbundle-aktion-2/
END:VEVENT
BEGIN:VEVENT
DTSTART;VALUE=DATE:20250701
DTEND;VALUE=DATE:20260731
DTSTAMP:20260421T133637
CREATED:20251027T090334Z
LAST-MODIFIED:20251027T090334Z
UID:20509-1751328000-1785455999@ringfoto.at
SUMMARY:SONY STUDIERENDEN CASHBACK
DESCRIPTION:Zur Stärkung Ihres Abverkaufs \nSony startet ab dem 01.07.2025 eine neue Cashback Aktion für ausgewählte Kameras\, Objektive und Zubehör. Studierende können hier je nach Produkt einen bestimmten Cashback Wert zurück erhalten. \nAktionszeitraum: 01.07. – 30.07.2026
URL:https://ringfoto.at/events/sony-studierenden-cashback/
END:VEVENT
BEGIN:VEVENT
DTSTART;VALUE=DATE:20250801
DTEND;VALUE=DATE:20250901
DTSTAMP:20260421T133637
CREATED:20250801T110229Z
LAST-MODIFIED:20250801T110229Z
UID:20422-1754006400-1756684799@ringfoto.at
SUMMARY:CANON SOFTBUNDLE EOS R6 Mark II + RF 50 mm
DESCRIPTION:Canon EOS R6 Mark II + RF 50 mm 1.8 Softbundle\nBis zu 239 € sparen bei Kauf einer Canon EOS R6 Mark II im Set mit einem RF 50 mm 1.8\n \nAKTIONSZEITRAUM: 01.08.2025 bis 31.08.2025
URL:https://ringfoto.at/events/canon-softbundle-eos-r6-mark-ii-rf-50-mm/
END:VEVENT
BEGIN:VEVENT
DTSTART;VALUE=DATE:20250801
DTEND;VALUE=DATE:20250901
DTSTAMP:20260421T133637
CREATED:20250801T110331Z
LAST-MODIFIED:20250801T110331Z
UID:20424-1754006400-1756684799@ringfoto.at
SUMMARY:CANON SOFTBUNDLE EOS R50V Kit + RF 28 mm 2.8
DESCRIPTION:Canon EOS R50V Kit + RF 28 mm 2.8 Softbundle\nBis zu 249 € sparen bei Kauf einer Canon EOS R50V im Set mit einem RF 28 mm 2.8\n \nAKTIONSZEITRAUM: 01.08.2025 bis 31.08.2025
URL:https://ringfoto.at/events/canon-softbundle-eos-r50v-kit-rf-28-mm-2-8/
END:VEVENT
BEGIN:VEVENT
DTSTART;VALUE=DATE:20250801
DTEND;VALUE=DATE:20251001
DTSTAMP:20260421T133637
CREATED:20250801T102753Z
LAST-MODIFIED:20250801T102753Z
UID:20410-1754006400-1759276799@ringfoto.at
SUMMARY:SmallRig Rückvergütungsaktion 2025
DESCRIPTION:Profitieren Sie vom Kickback im Aktionszeitraum \n01.08.–30.09.2025 \nIm Rahmen der SmallRig Rückvergütungsaktion erhalten Sie eine Rückvergütung auf ausgewählte Artikel bei\nerfolgreichem Abverkauf im Aktionszeitraum. \nDie Abrechnung erfolgt wie gewohnt über das Aktionsmeldungs-Tool unter Angabe der jeweiligen RIO-Aktions-ID 415. \nWICHTIGER HINWEIS ZUR SERIENNUMMERN-EINGABE:\nDa die Aktionsartikel keine Seriennummern besitzen\, hinterlegen Sie bitte im entsprechenden Feld Ihre Kundennummer mit einer fortlaufenden Nummer – ohne Punkt\, Komma oder Sonderzeichen.\nBeispiel: Kundennummer 10000\, fortlaufende Nummer 100 → Eingabe: 10000100
URL:https://ringfoto.at/events/smallrig-rueckverguetungsaktion-2025/
END:VEVENT
BEGIN:VEVENT
DTSTART;VALUE=DATE:20250801
DTEND;VALUE=DATE:20251001
DTSTAMP:20260421T133637
CREATED:20250801T102954Z
LAST-MODIFIED:20250811T075506Z
UID:20413-1754006400-1759276799@ringfoto.at
SUMMARY:CANON TRADE-IN R1
DESCRIPTION:Canon Trade-In R1:\n500 € Trade-In Rabatt im Warenkorb bei einem Kauf einer Canon EOS R1 \nAKTIONSZEITRAUM: 01.08.2025-30.09.2025
URL:https://ringfoto.at/events/canon-trade-in-r/
END:VEVENT
BEGIN:VEVENT
DTSTART;VALUE=DATE:20250815
DTEND;VALUE=DATE:20251001
DTSTAMP:20260421T133637
CREATED:20250811T075551Z
LAST-MODIFIED:20250811T075551Z
UID:20428-1755216000-1759276799@ringfoto.at
SUMMARY:CANON STREET & CITY SCAPE
DESCRIPTION:CANON STREET & CITY SCAPE\nNur gültig in DE / AT!\nIhre Endkunden können bis zu 300 € sparen! \nAchtung: Kommunikation Ihrem Endkunden gegenüber nicht vor dem 15.08.2025! \nVerkaufszeitraum: 15.08. – 30.09.2025\nMeldeschluss: 14.10.2025 \nAblauf:\nBitte melden Sie Ihre Verkäufe im RIO unter: Aktions-ID 409
URL:https://ringfoto.at/events/canon-street-city-scape/
END:VEVENT
BEGIN:VEVENT
DTSTART;VALUE=DATE:20250825
DTEND;VALUE=DATE:20250929
DTSTAMP:20260421T133637
CREATED:20250820T080919Z
LAST-MODIFIED:20250820T080919Z
UID:20431-1756080000-1759103999@ringfoto.at
SUMMARY:CANON CAMCORDER WARENKORB-AKTION
DESCRIPTION:Nur gültig in DE / AT!\nIhre Endkunden können bis zu 550 € sparen! \nAchtung: Kommunikation Ihrem Endkunden gegenüber nicht vor dem 25.08.2025! \nVerkaufszeitraum: 25.08. – 28.09.2025\nMeldeschluss: 12.10.2025 \nAblauf:\nBitte melden Sie Ihre Verkäufe im RIO unter: Aktions-ID 426
URL:https://ringfoto.at/events/canon-camcorder-warenkorb-aktion/
END:VEVENT
BEGIN:VEVENT
DTSTART;VALUE=DATE:20250825
DTEND;VALUE=DATE:20251001
DTSTAMP:20260421T133637
CREATED:20250825T065532Z
LAST-MODIFIED:20250825T065532Z
UID:20438-1756080000-1759276799@ringfoto.at
SUMMARY:CANON PRO-1100 DRUCKER WARENKORB-AKTION
DESCRIPTION:Nur gültig in DE / AT!\nIhre Endkunden können 150 € sparen! \nVerkaufszeitraum: 25.08. – 30.09.2025\nMeldeschluss: 14.10.2025 \nAblauf:\nBitte melden Sie Ihre Verkäufe im RIO unter: Aktions-ID 423
URL:https://ringfoto.at/events/canon-pro-1100-drucker-warenkorb-aktion/
END:VEVENT
END:VCALENDAR