BEGIN:VCALENDAR
VERSION:2.0
PRODID:-//RINGFOTO AT - ECPv6.15.20//NONSGML v1.0//EN
CALSCALE:GREGORIAN
METHOD:PUBLISH
X-ORIGINAL-URL:https://ringfoto.at
X-WR-CALDESC:Veranstaltungen für RINGFOTO AT
REFRESH-INTERVAL;VALUE=DURATION:PT1H
X-Robots-Tag:noindex
X-PUBLISHED-TTL:PT1H
BEGIN:VTIMEZONE
TZID:Europe/Berlin
BEGIN:DAYLIGHT
TZOFFSETFROM:+0100
TZOFFSETTO:+0200
TZNAME:CEST
DTSTART:20240331T010000
END:DAYLIGHT
BEGIN:STANDARD
TZOFFSETFROM:+0200
TZOFFSETTO:+0100
TZNAME:CET
DTSTART:20241027T010000
END:STANDARD
BEGIN:DAYLIGHT
TZOFFSETFROM:+0100
TZOFFSETTO:+0200
TZNAME:CEST
DTSTART:20250330T010000
END:DAYLIGHT
BEGIN:STANDARD
TZOFFSETFROM:+0200
TZOFFSETTO:+0100
TZNAME:CET
DTSTART:20251026T010000
END:STANDARD
BEGIN:DAYLIGHT
TZOFFSETFROM:+0100
TZOFFSETTO:+0200
TZNAME:CEST
DTSTART:20260329T010000
END:DAYLIGHT
BEGIN:STANDARD
TZOFFSETFROM:+0200
TZOFFSETTO:+0100
TZNAME:CET
DTSTART:20261025T010000
END:STANDARD
BEGIN:DAYLIGHT
TZOFFSETFROM:+0100
TZOFFSETTO:+0200
TZNAME:CEST
DTSTART:20270328T010000
END:DAYLIGHT
BEGIN:STANDARD
TZOFFSETFROM:+0200
TZOFFSETTO:+0100
TZNAME:CET
DTSTART:20271031T010000
END:STANDARD
END:VTIMEZONE
BEGIN:VEVENT
DTSTART;VALUE=DATE:20250401
DTEND;VALUE=DATE:20260401
DTSTAMP:20260421T045204
CREATED:20250327T121144Z
LAST-MODIFIED:20250327T121144Z
UID:20321-1743465600-1775001599@ringfoto.at
SUMMARY:SONY TELE-KONVERTER WBW AKTION
DESCRIPTION:Sie erhalten im Zeitraum 01.04.2025 – 31.03.2026 168\,00 € netto bei gemeinsamer Registrierung von Objektiv und unten aufgeführten Tele-Konverter \nAktionszeitraum: 01.04. – 31.03.2026\nMeldeschluss: 07.04.2026 \nBitte melden Sie Ihre Verkäufe im RIO – Aktionsmeldung ID 335!
URL:https://ringfoto.at/events/sony-tele-konverter-wbw-aktion/
END:VEVENT
BEGIN:VEVENT
DTSTART;VALUE=DATE:20250401
DTEND;VALUE=DATE:20260401
DTSTAMP:20260421T045204
CREATED:20251027T085912Z
LAST-MODIFIED:20251027T085912Z
UID:20507-1743465600-1775001599@ringfoto.at
SUMMARY:SONY COI WHEN-BOUGHT-WITH
DESCRIPTION:Zur Stärkung Ihres Abverkaufs startet Sony die COI When-Bought-With Aktion ab 01.04.2025. \nJe nach Kombination können Ihre Kunden im Rahmen der Aktion 100 € sparen beim gemeinsamen Kauf einer teilnehmenden Kamera und einem ausgewählten Objektiv von Sony. \nVerkaufszeitraum: 01.04.2025 – 31.03.2026 \nAblauf:\nBitte melden Sie Ihre Verkäufe im RIO unter: Aktions-ID 333
URL:https://ringfoto.at/events/sony-coi-when-bought-with/
END:VEVENT
BEGIN:VEVENT
DTSTART;VALUE=DATE:20250701
DTEND;VALUE=DATE:20260731
DTSTAMP:20260421T045204
CREATED:20251027T090334Z
LAST-MODIFIED:20251027T090334Z
UID:20509-1751328000-1785455999@ringfoto.at
SUMMARY:SONY STUDIERENDEN CASHBACK
DESCRIPTION:Zur Stärkung Ihres Abverkaufs \nSony startet ab dem 01.07.2025 eine neue Cashback Aktion für ausgewählte Kameras\, Objektive und Zubehör. Studierende können hier je nach Produkt einen bestimmten Cashback Wert zurück erhalten. \nAktionszeitraum: 01.07. – 30.07.2026
URL:https://ringfoto.at/events/sony-studierenden-cashback/
END:VEVENT
BEGIN:VEVENT
DTSTART;VALUE=DATE:20250901
DTEND;VALUE=DATE:20260101
DTSTAMP:20260421T045204
CREATED:20250826T142948Z
LAST-MODIFIED:20250826T142948Z
UID:20455-1756684800-1767225599@ringfoto.at
SUMMARY:CANON – CAMCORDER C70 DURCHVERKAUFSAKTION
DESCRIPTION:Achtung: Kommunikation Ihrem Endkunden gegenüber nicht vor dem 01.09.2025! \nUm Ihre Lagerbestände abzubauen\, erhalten Sie für Ihren Verkauf ein Kickback in Höhe von 948\,83 €. \nDer UVP wird ab 01.09. auf 3.999 € gesenkt. \nVerkaufszeitraum: 01.09. – 31.12.2025\nMeldeschluss: 14.01.2026 (monatliche Zwischenauszahlungen) \nAblauf:\nBitte melden Sie Ihre Verkäufe im RIO unter: Aktions-ID 439 \nWir haben den Camcorder ab sofort offline gesetzt. Sollten Sie Bedarf haben\, dann können Sie sich gerne telefonisch bei uns melden.
URL:https://ringfoto.at/events/canon-camcorder-c70-durchverkaufsaktion/
END:VEVENT
BEGIN:VEVENT
DTSTART;VALUE=DATE:20250910
DTEND;VALUE=DATE:20260311
DTSTAMP:20260421T045204
CREATED:20250919T091302Z
LAST-MODIFIED:20250919T091302Z
UID:20475-1757462400-1773187199@ringfoto.at
SUMMARY:OM SYSTEM GEWINNSPIEL-AKTION
DESCRIPTION:Zwischen dem 10.09.2025 und dem 10.03.2026 können Ihre Kunden von der OM SYSTEM Gewinnspiel-Aktion profitieren und eine Reise nach Namibia für im Wert von 25.000 € gewinnen! \nAktionszeitraum: 10.09. – 10.03.2026\nRegistrierung: bis spätestens 24.03.2026
URL:https://ringfoto.at/events/om-system-gewinnspiel-aktion/
END:VEVENT
BEGIN:VEVENT
DTSTART;VALUE=DATE:20251001
DTEND;VALUE=DATE:20260101
DTSTAMP:20260421T045204
CREATED:20251127T163018Z
LAST-MODIFIED:20251127T163018Z
UID:20536-1759276800-1767225599@ringfoto.at
SUMMARY:SONY FX30 / FX3 WARENKORB AKTION
DESCRIPTION:Zur Stärkung Ihres Abverkaufs startet Sony die SONY FX30/FX3 Warenkorb Aktion bis zum 31.12.2025. \nBis zu 300 € Abzug im Warenkorb für Ihren Endkunden. \nAktionszeitraum: 01.10.2025 – 31.12.2025\nMeldeschluss: 14.01.2026
URL:https://ringfoto.at/events/sony-fx30-fx3-warenkorb-aktion/
END:VEVENT
BEGIN:VEVENT
DTSTART;VALUE=DATE:20251001
DTEND;VALUE=DATE:20260201
DTSTAMP:20260421T045204
CREATED:20250919T091424Z
LAST-MODIFIED:20250919T091424Z
UID:20479-1759276800-1769903999@ringfoto.at
SUMMARY:SONY WINTER CASHBACK 2025/2026
DESCRIPTION:Gültig in Deutschland & Österreich \nZur Stärkung Ihres Abverkaufs startet die Sony Winter Cashback Aktion für ausgewählte Kameras\, Objektive und Zubehöre ab 01.10.2025. Je nach Produkt können Ihre Kunden im Rahmen der Aktion bis zu 500 € in Form eines Cashbacks zurückerhalten. \nAchtung: Kommunikation Ihrem Endkunden gegenüber nicht vor dem 01.10.2025! \nAktionszeitraum: 01.10.2025 – 31.01.2026
URL:https://ringfoto.at/events/sony-winter-cashback-2025-2026/
END:VEVENT
BEGIN:VEVENT
DTSTART;VALUE=DATE:20251031
DTEND;VALUE=DATE:20260101
DTSTAMP:20260421T045204
CREATED:20251105T071943Z
LAST-MODIFIED:20251105T071943Z
UID:20512-1761868800-1767225599@ringfoto.at
SUMMARY:PANASONIC SALES PROMOTION AG-CX18 & AG-CX20
DESCRIPTION:Ihre Endkunden können bis zu 300 € sparen! \nVerkaufszeitraum: 31.10.2025 – 31.12.2025\nMeldeschluss: 14.01.2026 \nAblauf:\nBitte melden Sie Ihre Verkäufe im RIO unter: Aktions-ID 487
URL:https://ringfoto.at/events/panasonic-sales-promotion-ag-cx18-ag-cx20/
END:VEVENT
BEGIN:VEVENT
DTSTART;VALUE=DATE:20251113
DTEND;VALUE=DATE:20260107
DTSTAMP:20260421T045204
CREATED:20251105T072135Z
LAST-MODIFIED:20251105T072135Z
UID:20516-1762992000-1767743999@ringfoto.at
SUMMARY:OM SYTEM WINTER CASHBACK & 5 JAHRE GARANTIE
DESCRIPTION:Jetzt doppelt profitieren: Bis zu 600 € Cashback und 5 Jahre Garantie gratis! \nAchtung: Kommunikation Ihrem Endkunden gegenüber nicht vor dem 13.11.2025! \nZwischen dem 13.11.2025 und dem 06.01.2026 können Ihre Kunden von der OM SYSTEM Cashback-Aktion profitieren und bis zu 600 € Rabatt sichern! \nAktionszeitraum: 13.11.2025 – 06.01.2026\nRegistrierung: bis spätestens 20.01.2026
URL:https://ringfoto.at/events/om-sytem-winter-cashback-5-jahre-garantie/
END:VEVENT
BEGIN:VEVENT
DTSTART;VALUE=DATE:20251113
DTEND;VALUE=DATE:20260115
DTSTAMP:20260421T045204
CREATED:20251111T144612Z
LAST-MODIFIED:20251111T144654Z
UID:20519-1762992000-1768435199@ringfoto.at
SUMMARY:FUJIFILM GFX CASHBACK AKTION
DESCRIPTION:WICHTIG: Kommunikation Ihrem Endkunden gegenüber nicht vor dem 13.11.2025! \nJetzt Cashback sichern – beim Kauf teilnahmeberechtigter Kameras und Objektive!  \nAktionszeitraum: 13.11.2025 – 14.01.2026\nRegistrierung: Frühestens ab dem 11. Dezember 2025\, jedoch spätestens bis zum 14. März 2026. \nAblauf:\nIhr Endkunde kauft eines der teilnahmeberechtigten Produkte im Aktionszeitraum und füllt das Cashback-Antragsformular unter www.fujifilm-x.com aus.\nNach erfolgreicher Überprüfung erfolgt die Cashback-Auszahlung innerhalb von 14 Tagen.
URL:https://ringfoto.at/events/fujifilm-gfx-cashback-aktion/
END:VEVENT
BEGIN:VEVENT
DTSTART;VALUE=DATE:20251113
DTEND;VALUE=DATE:20260115
DTSTAMP:20260421T045204
CREATED:20251111T144640Z
LAST-MODIFIED:20251111T144640Z
UID:20521-1762992000-1768435199@ringfoto.at
SUMMARY:FUJIFILM X SERIE CASHBACK AKTION
DESCRIPTION:WICHTIG: Kommunikation Ihrem Endkunden gegenüber nicht vor dem 13.11.2025! \nJetzt Cashback sichern – beim Kauf teilnahmeberechtigter Kameras und Objektive!  \nAktionszeitraum: 13.11.2025 – 14.01.2026\nRegistrierung: Frühestens ab dem 11. Dezember 2025\, jedoch spätestens bis zum 14. März 2026. \nAblauf:\nIhr Endkunde kauft eines der teilnahmeberechtigten Produkte im Aktionszeitraum und füllt das Cashback-Antragsformular unter www.fujifilm-x.com aus. Nach erfolgreicher Überprüfung erfolgt die Cashback-Auszahlung innerhalb von 14 Tagen.
URL:https://ringfoto.at/events/fujifilm-x-serie-cashback-aktion/
END:VEVENT
BEGIN:VEVENT
DTSTART;VALUE=DATE:20251120
DTEND;VALUE=DATE:20260105
DTSTAMP:20260421T045204
CREATED:20251119T072106Z
LAST-MODIFIED:20251119T072106Z
UID:20525-1763596800-1767571199@ringfoto.at
SUMMARY:PENTAX WINTER PROMOTION
DESCRIPTION:WICHTIG: Kommunikation Ihrem Endkunden gegenüber nicht vor dem 20.11.2025! \nAktionszeitraum: 20.11.2025 – 04.01.2026\nMeldeschluss: 18.01.2026 \n\nRegistrierung über die RIO-Aktions-ID 498
URL:https://ringfoto.at/events/pentax-winter-promotion/
END:VEVENT
BEGIN:VEVENT
DTSTART;VALUE=DATE:20251121
DTEND;VALUE=DATE:20251226
DTSTAMP:20260421T045204
CREATED:20251211T092838Z
LAST-MODIFIED:20251211T092838Z
UID:20550-1763683200-1766707199@ringfoto.at
SUMMARY:POLAROID/DEZ SELL OUT AKTION PROMO NR. 1
DESCRIPTION:Verkaufszeitraum: 21.11.2025 -25.12.2025\nMeldeschluss: 09.01.2026 \nAblauf:\nBitte melden Sie Ihre Verkäufe im RIO unter: Aktions-ID 506
URL:https://ringfoto.at/events/polaroid-dez-sell-out-aktion-promo-nr-1/
END:VEVENT
BEGIN:VEVENT
DTSTART;VALUE=DATE:20251121
DTEND;VALUE=DATE:20260101
DTSTAMP:20260421T045204
CREATED:20251127T162927Z
LAST-MODIFIED:20251127T162927Z
UID:20534-1763683200-1767225599@ringfoto.at
SUMMARY:SONY FX2 DURCHVERKAUFSAKTION
DESCRIPTION:Im Aktionszeitraum 21.11.2025 bis 31.12.2025 kann Ihr Endkunde 300 € Direktabzug erhalten! \nVerkaufszeitraum: 21.11. – 31.12.2025\nMeldeschluss: 14.01.2026 \nNur gültig in DE/AT! \nAblauf:\nBitte melden Sie Ihre Verkäufe im RIO unter: Aktions-ID 510
URL:https://ringfoto.at/events/sony-fx2-durchverkaufsaktion/
END:VEVENT
BEGIN:VEVENT
DTSTART;VALUE=DATE:20251202
DTEND;VALUE=DATE:20260401
DTSTAMP:20260421T045204
CREATED:20251202T140555Z
LAST-MODIFIED:20251219T083705Z
UID:20540-1764633600-1775001599@ringfoto.at
SUMMARY:SONY ALPHA ILCE-7 V BODY SOFTBUNDLE AKTION
DESCRIPTION:Nur gültig in DE / AT!\nBis zu 200 EUR Abzug im Warenkorb für Ihre Endkunden! \nAktionszeitraum: 02.12.2025 – 31.03.2026\nMeldeschluss: 14.04.2026 \nBitte melden Sie Ihre Verkäufe im RIO – Aktionsmeldung ID 527
URL:https://ringfoto.at/events/sony-alpha-ilce-7-v-body-softbundle-aktion/
END:VEVENT
END:VCALENDAR