BEGIN:VCALENDAR
VERSION:2.0
PRODID:-//RINGFOTO AT - ECPv6.15.20//NONSGML v1.0//EN
CALSCALE:GREGORIAN
METHOD:PUBLISH
X-WR-CALNAME:RINGFOTO AT
X-ORIGINAL-URL:https://ringfoto.at
X-WR-CALDESC:Veranstaltungen für RINGFOTO AT
REFRESH-INTERVAL;VALUE=DURATION:PT1H
X-Robots-Tag:noindex
X-PUBLISHED-TTL:PT1H
BEGIN:VTIMEZONE
TZID:Europe/Berlin
BEGIN:DAYLIGHT
TZOFFSETFROM:+0100
TZOFFSETTO:+0200
TZNAME:CEST
DTSTART:20240331T010000
END:DAYLIGHT
BEGIN:STANDARD
TZOFFSETFROM:+0200
TZOFFSETTO:+0100
TZNAME:CET
DTSTART:20241027T010000
END:STANDARD
BEGIN:DAYLIGHT
TZOFFSETFROM:+0100
TZOFFSETTO:+0200
TZNAME:CEST
DTSTART:20250330T010000
END:DAYLIGHT
BEGIN:STANDARD
TZOFFSETFROM:+0200
TZOFFSETTO:+0100
TZNAME:CET
DTSTART:20251026T010000
END:STANDARD
BEGIN:DAYLIGHT
TZOFFSETFROM:+0100
TZOFFSETTO:+0200
TZNAME:CEST
DTSTART:20260329T010000
END:DAYLIGHT
BEGIN:STANDARD
TZOFFSETFROM:+0200
TZOFFSETTO:+0100
TZNAME:CET
DTSTART:20261025T010000
END:STANDARD
BEGIN:DAYLIGHT
TZOFFSETFROM:+0100
TZOFFSETTO:+0200
TZNAME:CEST
DTSTART:20270328T010000
END:DAYLIGHT
BEGIN:STANDARD
TZOFFSETFROM:+0200
TZOFFSETTO:+0100
TZNAME:CET
DTSTART:20271031T010000
END:STANDARD
END:VTIMEZONE
BEGIN:VEVENT
DTSTART;VALUE=DATE:20250401
DTEND;VALUE=DATE:20260401
DTSTAMP:20260421T005148
CREATED:20250327T121144Z
LAST-MODIFIED:20250327T121144Z
UID:20321-1743465600-1775001599@ringfoto.at
SUMMARY:SONY TELE-KONVERTER WBW AKTION
DESCRIPTION:Sie erhalten im Zeitraum 01.04.2025 – 31.03.2026 168\,00 € netto bei gemeinsamer Registrierung von Objektiv und unten aufgeführten Tele-Konverter \nAktionszeitraum: 01.04. – 31.03.2026\nMeldeschluss: 07.04.2026 \nBitte melden Sie Ihre Verkäufe im RIO – Aktionsmeldung ID 335!
URL:https://ringfoto.at/events/sony-tele-konverter-wbw-aktion/
END:VEVENT
BEGIN:VEVENT
DTSTART;VALUE=DATE:20250401
DTEND;VALUE=DATE:20260401
DTSTAMP:20260421T005148
CREATED:20251027T085912Z
LAST-MODIFIED:20251027T085912Z
UID:20507-1743465600-1775001599@ringfoto.at
SUMMARY:SONY COI WHEN-BOUGHT-WITH
DESCRIPTION:Zur Stärkung Ihres Abverkaufs startet Sony die COI When-Bought-With Aktion ab 01.04.2025. \nJe nach Kombination können Ihre Kunden im Rahmen der Aktion 100 € sparen beim gemeinsamen Kauf einer teilnehmenden Kamera und einem ausgewählten Objektiv von Sony. \nVerkaufszeitraum: 01.04.2025 – 31.03.2026 \nAblauf:\nBitte melden Sie Ihre Verkäufe im RIO unter: Aktions-ID 333
URL:https://ringfoto.at/events/sony-coi-when-bought-with/
END:VEVENT
BEGIN:VEVENT
DTSTART;VALUE=DATE:20250701
DTEND;VALUE=DATE:20260731
DTSTAMP:20260421T005148
CREATED:20251027T090334Z
LAST-MODIFIED:20251027T090334Z
UID:20509-1751328000-1785455999@ringfoto.at
SUMMARY:SONY STUDIERENDEN CASHBACK
DESCRIPTION:Zur Stärkung Ihres Abverkaufs \nSony startet ab dem 01.07.2025 eine neue Cashback Aktion für ausgewählte Kameras\, Objektive und Zubehör. Studierende können hier je nach Produkt einen bestimmten Cashback Wert zurück erhalten. \nAktionszeitraum: 01.07. – 30.07.2026
URL:https://ringfoto.at/events/sony-studierenden-cashback/
END:VEVENT
BEGIN:VEVENT
DTSTART;VALUE=DATE:20250910
DTEND;VALUE=DATE:20260311
DTSTAMP:20260421T005148
CREATED:20250919T091302Z
LAST-MODIFIED:20250919T091302Z
UID:20475-1757462400-1773187199@ringfoto.at
SUMMARY:OM SYSTEM GEWINNSPIEL-AKTION
DESCRIPTION:Zwischen dem 10.09.2025 und dem 10.03.2026 können Ihre Kunden von der OM SYSTEM Gewinnspiel-Aktion profitieren und eine Reise nach Namibia für im Wert von 25.000 € gewinnen! \nAktionszeitraum: 10.09. – 10.03.2026\nRegistrierung: bis spätestens 24.03.2026
URL:https://ringfoto.at/events/om-system-gewinnspiel-aktion/
END:VEVENT
BEGIN:VEVENT
DTSTART;VALUE=DATE:20251202
DTEND;VALUE=DATE:20260401
DTSTAMP:20260421T005148
CREATED:20251202T140555Z
LAST-MODIFIED:20251219T083705Z
UID:20540-1764633600-1775001599@ringfoto.at
SUMMARY:SONY ALPHA ILCE-7 V BODY SOFTBUNDLE AKTION
DESCRIPTION:Nur gültig in DE / AT!\nBis zu 200 EUR Abzug im Warenkorb für Ihre Endkunden! \nAktionszeitraum: 02.12.2025 – 31.03.2026\nMeldeschluss: 14.04.2026 \nBitte melden Sie Ihre Verkäufe im RIO – Aktionsmeldung ID 527
URL:https://ringfoto.at/events/sony-alpha-ilce-7-v-body-softbundle-aktion/
END:VEVENT
BEGIN:VEVENT
DTSTART;VALUE=DATE:20260119
DTEND;VALUE=DATE:20260301
DTSTAMP:20260421T005148
CREATED:20260114T082959Z
LAST-MODIFIED:20260114T082959Z
UID:20565-1768780800-1772323199@ringfoto.at
SUMMARY:FUJIFILM X-HF1 CASHBACK AKTION
DESCRIPTION:WICHTIG: Kommunikation Ihrem Endkunden gegenüber nicht vor dem 19.01.2026! \nJetzt Cashback sichern – beim Kauf teilnahmeberechtigter Kameras!  \nAktionszeitraum: 19.01.2026 – 28.02.2026\nRegistrierung: Frühestens ab dem 16. Februar 2026\, jedoch spätestens bis zum 25. April 2026. \nAblauf:\nIhr Endkunde kauft eines der teilnahmeberechtigten Produkte im Aktionszeitraum und füllt das Cashback-Antragsformular unter www.fujifilm-x.com aus.\nNach erfolgreicher Überprüfung erfolgt die Cashback-Auszahlung innerhalb von 14 Tagen.
URL:https://ringfoto.at/events/fujifilm-x-hf1-cashback-aktion/
END:VEVENT
BEGIN:VEVENT
DTSTART;VALUE=DATE:20260201
DTEND;VALUE=DATE:20260401
DTSTAMP:20260421T005148
CREATED:20260127T115556Z
LAST-MODIFIED:20260127T115556Z
UID:20574-1769904000-1775001599@ringfoto.at
SUMMARY:SONY DIREKT PREIS AKTION ALPHA ILCE-7R V
DESCRIPTION:Achtung: Kommunikation Ihrem Endkunden gegenüber nicht vor dem 01.02.2026! \nGültig in Deutschland & Österreich \nVerkaufszeitraum: 01.02. – 31.03.2026\nMeldeschluss: 14.04.2026 \n\nRegistrierung über die RIO-Aktions-ID 567
URL:https://ringfoto.at/events/sony-direkt-preis-aktion-alpha-ilce-7r-v/
END:VEVENT
BEGIN:VEVENT
DTSTART;VALUE=DATE:20260209
DTEND;VALUE=DATE:20260316
DTSTAMP:20260421T005148
CREATED:20260326T075843Z
LAST-MODIFIED:20260326T075843Z
UID:20628-1770595200-1773619199@ringfoto.at
SUMMARY:CANON WILD AUF ANGEBOTE
DESCRIPTION:Aktionszeitraum: 09.02. – 15.03.2026\nMeldeschluss: 29.03.2026 \nAblauf:\nBitte melden Sie Ihre Verkäufe im RIO – Aktionsmeldung ID 568.\nDie ID für die Softbundles entnehmen Sie bitte direkt der jeweiligen Listung. \nKombirabatt-Kickback ist nicht mit Einzel-Kickback kombinierbar.
URL:https://ringfoto.at/events/canon-wild-auf-angebote/
END:VEVENT
BEGIN:VEVENT
DTSTART;VALUE=DATE:20260211
DTEND;VALUE=DATE:20260315
DTSTAMP:20260421T005148
CREATED:20260217T130953Z
LAST-MODIFIED:20260217T130953Z
UID:20596-1770768000-1773532799@ringfoto.at
SUMMARY:MyFirst SELL OUT AKTION PROMO NR. 1
DESCRIPTION:Aktionszeitraum: 11.02.2026 – 14.03.2026\nMeldeschluss: 28.03.2026 \nBitte melden Sie Ihre Verkäufe im RIO – Aktionsmeldung ID 584
URL:https://ringfoto.at/events/myfirst-sell-out-aktion-promo-nr-1/
END:VEVENT
BEGIN:VEVENT
DTSTART;VALUE=DATE:20260216
DTEND;VALUE=DATE:20260316
DTSTAMP:20260421T005148
CREATED:20260211T070833Z
LAST-MODIFIED:20260211T070833Z
UID:20590-1771200000-1773619199@ringfoto.at
SUMMARY:CANON CINEMA BEGINNT HIER
DESCRIPTION:Wichtig: Kommunikation Ihrem Endkunden gegenüber nicht vor dem 16.02.2026! \nAktionszeitraum: 16.02. – 15.03.2026\nMeldeschluss: 29.03.2026 \nAblauf:\nBitte melden Sie Ihre Verkäufe im RIO – Aktionsmeldung ID 572.\nDie ID für die Softbundles entnehmen Sie bitte direkt der jeweiligen Listung. \nIhnen stehen Werbemittel für B2B und B2C zum Download zur Verfügung. \nNaturalzugabe: SanDisk Extreme Pro CFExpress 256 GB (EK-Wert 112\,29 EUR) zu jeder EOS C50 Neubestellung im o.g. Zeitraum!
URL:https://ringfoto.at/events/canon-cinema-beginnt-hier/
END:VEVENT
BEGIN:VEVENT
DTSTART;VALUE=DATE:20260216
DTEND;VALUE=DATE:20260401
DTSTAMP:20260421T005148
CREATED:20260211T070858Z
LAST-MODIFIED:20260211T070858Z
UID:20592-1771200000-1775001599@ringfoto.at
SUMMARY:SONY LENS COI PROMOTION
DESCRIPTION:Wichtig: Kommunikation Ihrem Endkunden gegenüber nicht vor dem 16.02.2026! \nGültig in Deutschland & Österreich \nVerkaufszeitraum: 16.02. – 31.03.2026\nMeldeschluss: 14.04.2026 \n\nRegistrierung über die RIO-Aktions-ID 583
URL:https://ringfoto.at/events/sony-lens-coi-promotion/
END:VEVENT
END:VCALENDAR