BEGIN:VCALENDAR
VERSION:2.0
PRODID:-//RINGFOTO AT - ECPv6.15.20//NONSGML v1.0//EN
CALSCALE:GREGORIAN
METHOD:PUBLISH
X-WR-CALNAME:RINGFOTO AT
X-ORIGINAL-URL:https://ringfoto.at
X-WR-CALDESC:Veranstaltungen für RINGFOTO AT
REFRESH-INTERVAL;VALUE=DURATION:PT1H
X-Robots-Tag:noindex
X-PUBLISHED-TTL:PT1H
BEGIN:VTIMEZONE
TZID:Europe/Berlin
BEGIN:DAYLIGHT
TZOFFSETFROM:+0100
TZOFFSETTO:+0200
TZNAME:CEST
DTSTART:20250330T010000
END:DAYLIGHT
BEGIN:STANDARD
TZOFFSETFROM:+0200
TZOFFSETTO:+0100
TZNAME:CET
DTSTART:20251026T010000
END:STANDARD
BEGIN:DAYLIGHT
TZOFFSETFROM:+0100
TZOFFSETTO:+0200
TZNAME:CEST
DTSTART:20260329T010000
END:DAYLIGHT
BEGIN:STANDARD
TZOFFSETFROM:+0200
TZOFFSETTO:+0100
TZNAME:CET
DTSTART:20261025T010000
END:STANDARD
BEGIN:DAYLIGHT
TZOFFSETFROM:+0100
TZOFFSETTO:+0200
TZNAME:CEST
DTSTART:20270328T010000
END:DAYLIGHT
BEGIN:STANDARD
TZOFFSETFROM:+0200
TZOFFSETTO:+0100
TZNAME:CET
DTSTART:20271031T010000
END:STANDARD
END:VTIMEZONE
BEGIN:VEVENT
DTSTART;VALUE=DATE:20260401
DTEND;VALUE=DATE:20260801
DTSTAMP:20260421T024327
CREATED:20260326T075656Z
LAST-MODIFIED:20260326T075656Z
UID:20623-1775001600-1785542399@ringfoto.at
SUMMARY:SONY DI SUMMER CASHBACK
DESCRIPTION:Achtung: Kommunikation Ihrem Endkunden gegenüber nicht vor dem 01.04.2026! \nGültig in Deutschland & Österreich \nJetzt bis zu 300 € Cashback sichern – beim Kauf ausgewählter\, Kameras\, Objektive & Zubehör \nAktionszeitraum: 01.04.2026 – 31.07.2026
URL:https://ringfoto.at/events/sony-di-summer-cashback/
END:VEVENT
END:VCALENDAR